BEGIN:VCALENDAR
VERSION:2.0
PRODID:Events Booking
BEGIN:VEVENT
UID:69e595fa0455a
SUMMARY:13.06.2026 - Ablegerbildung und Völkervermehrung
DESCRIPTION:Präsenzkurs in Kleinkemnat.  
 Kursleiter: Johann Fischer\, 
 Werner Köhler
LOCATION:Stefanstal 4\, 87600 Kaufbeuren
DTSTART:20260613T070000Z
DTEND:20260613T140000Z
DTSTAMP:20251120T152618Z
ORGANIZER;CN=Imkerschule Schwaben:MAILTO:imkerschule@imker-schwaben.de
GEO:47.890058;10.583051
X-APPLE-STRUCTURED-LOCATION;VALUE=URI;X-ADDRESS=Stefanstal 4\, 87600 Kaufbe
 uren;X-APPLE-RADIUS=72;X-TITLE=Imkerschule Schwaben:47.890058;10.583051
END:VEVENT
END:VCALENDAR