BEGIN:VCALENDAR
VERSION:2.0
PRODID:Events Booking
BEGIN:VEVENT
UID:69e595457ec07
SUMMARY:06.06.26 -  Honigkurs Praxis + Zertifizierung - Module 4+5 zum DIB-
 Zertifikat - Gruppe 2 
DESCRIPTION:Präsenzkurs in Kleinkemnat
 Kursablauf: 11:30 bis 14 Uhr Zert
 ifizierkurs\, anschließend&nbsp\;Praxiskurs bis 16 Uhr. 
 Kursleiter: Jo
 hann Fischer\, Werner Köhler\, Gudrun Stechele
LOCATION:Stefanstal 4\, 87600 Kaufbeuren
DTSTART:20260606T093000Z
DTEND:20260606T140000Z
DTSTAMP:20251116T162140Z
ORGANIZER;CN=Imkerschule Schwaben:MAILTO:imkerschule@imker-schwaben.de
GEO:47.890058;10.583051
X-APPLE-STRUCTURED-LOCATION;VALUE=URI;X-ADDRESS=Stefanstal 4\, 87600 Kaufbe
 uren;X-APPLE-RADIUS=72;X-TITLE=Imkerschule Schwaben:47.890058;10.583051
END:VEVENT
END:VCALENDAR