BEGIN:VCALENDAR
VERSION:2.0
PRODID:Events Booking
BEGIN:VEVENT
UID:69e593f115346
SUMMARY:19.05.26 - Zuchtstoffabgabe  
DESCRIPTION:Keine Anmeldung erforderlich
 Zuchtstoffabgabe durch Johann Fi
 scher\, Werner Köhler\, Gudrun Stechele
LOCATION:Stefanstal 4\, 87600 Kaufbeuren
DTSTART:20260519T160000Z
DTEND:20260519T180000Z
DTSTAMP:20251116T160313Z
ORGANIZER;CN=Imkerschule Schwaben:MAILTO:imkerschule@imker-schwaben.de
GEO:47.890058;10.583051
X-APPLE-STRUCTURED-LOCATION;VALUE=URI;X-ADDRESS=Stefanstal 4\, 87600 Kaufbe
 uren;X-APPLE-RADIUS=72;X-TITLE=Imkerschule Schwaben:47.890058;10.583051
END:VEVENT
END:VCALENDAR