BEGIN:VCALENDAR
VERSION:2.0
PRODID:Events Booking
BEGIN:VEVENT
UID:69e595ad0b57b
SUMMARY:16.05.26 - Der Umgang mit Bienenvölkern: Völkerbeurteilung\, Hand
 griffe und Tipps zur Arbeitsweise für Anfänger
DESCRIPTION:Präsenzkurs in Kleinkemnat
 Kursleiter: Johann Fischer\, Wern
 er Köhler
LOCATION:Stefanstal 4\, 87600 Kaufbeuren
DTSTART:20260516T070000Z
DTEND:20260516T140000Z
DTSTAMP:20251114T084049Z
ORGANIZER;CN=Imkerschule Schwaben:MAILTO:imkerschule@imker-schwaben.de
GEO:47.890058;10.583051
X-APPLE-STRUCTURED-LOCATION;VALUE=URI;X-ADDRESS=Stefanstal 4\, 87600 Kaufbe
 uren;X-APPLE-RADIUS=72;X-TITLE=Imkerschule Schwaben:47.890058;10.583051
END:VEVENT
END:VCALENDAR