BEGIN:VCALENDAR
VERSION:2.0
PRODID:Events Booking
BEGIN:VEVENT
UID:69e595026f236
SUMMARY:12.+13.09.2026 - Bayerischer Imkertag in Mindelheim + 50 Jahre Imke
 rschule
DESCRIPTION:
LOCATION:Theaterplatz\, Mindelheim\, 87719 Bayern\, Deutschland
DTSTART:20260912T080000Z
DTEND:20260913T150000Z
DTSTAMP:20260120T145142Z
ORGANIZER;CN=Imkerschule Schwaben:MAILTO:imkerschule@imker-schwaben.de
GEO:48.047535;10.491483
X-APPLE-STRUCTURED-LOCATION;VALUE=URI;X-ADDRESS=Theaterplatz\, Mindelheim\,
  87719 Bayern\, Deutschland;X-APPLE-RADIUS=72;X-TITLE=Forum Mindelheim :48
 .047535;10.491483
END:VEVENT
END:VCALENDAR