BEGIN:VCALENDAR
VERSION:2.0
PRODID:Events Booking
BEGIN:VEVENT
UID:69e595965ef36
SUMMARY:01.08.2026. - Spätsommerpflege und Einwinterung 
DESCRIPTION:Präsenzkurs in Kleinkemnat
 Kursleiter: Johann Fischer\, Wern
 er Köhler
LOCATION:Stefanstal 4\, 87600 Kaufbeuren
DTSTART:20260731T220000Z
DTEND:20260731T220000Z
DTSTAMP:20260120T143804Z
ORGANIZER;CN=Imkerschule Schwaben:MAILTO:imkerschule@imker-schwaben.de
GEO:47.890058;10.583051
X-APPLE-STRUCTURED-LOCATION;VALUE=URI;X-ADDRESS=Stefanstal 4\, 87600 Kaufbe
 uren;X-APPLE-RADIUS=72;X-TITLE=Imkerschule Schwaben:47.890058;10.583051
END:VEVENT
END:VCALENDAR