BEGIN:VCALENDAR
VERSION:2.0
PRODID:Events Booking
BEGIN:VEVENT
UID:69e595026d56b
SUMMARY:13.06.2026 - Zuchtarbeit mit Belegstellenbeschickung 
DESCRIPTION:Wir fahren von Kleinkemnat zur \"Belegstelle Bleckenau\" und st
 ellen die Begattungsvölkchen auf. Die Zufahrt zur Bleckenau ist und nur
  mit Sondergenehmigung möglich. Wir bilden Fahrgemeinschaften. Bitte bei 
 Kursleiter Fischer anmelden.
LOCATION:Stefanstal 4\, 87600 Kaufbeuren
DTSTART:20260613T150000Z
DTEND:20260613T180000Z
DTSTAMP:20260120T140423Z
ORGANIZER;CN=Imkerschule Schwaben:MAILTO:imkerschule@imker-schwaben.de
GEO:47.890058;10.583051
X-APPLE-STRUCTURED-LOCATION;VALUE=URI;X-ADDRESS=Stefanstal 4\, 87600 Kaufbe
 uren;X-APPLE-RADIUS=72;X-TITLE=Imkerschule Schwaben:47.890058;10.583051
END:VEVENT
END:VCALENDAR