BEGIN:VCALENDAR
VERSION:2.0
PRODID:Events Booking
BEGIN:VEVENT
UID:69e5a8f08275d
SUMMARY:09.06.2026- Vespa Velutina: Biologie und Folgen für Imkerei und Ge
 sellschaft - Online-Webinar\, Teil 1 
DESCRIPTION:Referent: Dr. Ronald Jäger\, Koordinierungsstelle Vespa veluti
 na\, Institut Bienen und Imkerei\, Veitshöchsheim (IBI)Anmeldung nur via 
 Link: &nbsp\;https://www.lwg.bayern.de/bienen/bildung_beruf/390122/index.p
 hp
 Dieses Webinar ist für alle interessierten Personen ohne Vorkenntnis
 se gedacht. Es ist zudem Voraussetzung für die spätere Teilnahme an den 
 Nestentferner-Ausbildung Kursen (Teil 2+3)Keine Teilnahmegebühr.
 Mehr I
 nformationen zur Asiatischen Hornisse (Vespa velutina) finden Sie unter&nb
 sp\; &nbsp\;https://s.bayern.de/velutina&nbsp\;
 Institut für Bienenkund
 e und ImkereiBayerische Landesanstalt für Weinbau und Gartenbau (LWG)An d
 er Steige 15\, 97209 Veitshöchheim Tel. 0931 9801 3605
 velutina@lwg.bay
 ern.de&nbsp\; &nbsp\; &nbsp\;&nbsp\;www.lwg.bayern.de
DTSTART:20260608T220000Z
DTEND:20260608T220000Z
DTSTAMP:20251209T151404Z
ORGANIZER;CN=Imkerschule Schwaben:MAILTO:imkerschule@imker-schwaben.de
END:VEVENT
END:VCALENDAR